BEGIN:VCALENDAR
VERSION:2.0
PRODID:-//eventon.com NONSGML v1.0//EN
CALSCALE:GREGORIAN
METHOD:PUBLISH
BEGIN:VEVENT
UID:69e74de0196c6
DTSTAMP:20260421T101352Z
DTSTART:20180309T093000Z
DTEND:20180309T163000Z
LOCATION:MÃ¼nchen Siemens HQ Werner-von-Siemens-Str. 1\,  80333 MÃ¼nchen
SUMMARY:DiverseCity MÃ¼nchen
DESCRIPTION:Die Digitalisierung ist Fakt und schreitet immer schneller Ã¼be
 rall voran. KreativitÃ¤t ist der Motor fÃ¼r Innovation. KreativitÃ¤t entste
 ht nicht durch Monokultur; KreativitÃ¤t gelingt nur durch Einbeziehung unte
 rschiedlicher Sichtweisen. Unter dem Motto â€žFÃ¼hrung im Digitalen Wandelâ
 €œ laden wir Sie am 09.03.2018 herzlich zur DiverseCity in das Auditorium d
 er Siemens Zentrale nach[..]\nhttps://diversecity.de/events/muenchen/
URL:https://diversecity.de/events/muenchen/
END:VEVENT
END:VCALENDAR