BEGIN:VCALENDAR
VERSION:2.0
PRODID:-//eventon.com NONSGML v1.0//EN
CALSCALE:GREGORIAN
METHOD:PUBLISH
BEGIN:VEVENT
UID:69e74da6542c4
DTSTAMP:20260421T101254Z
DTSTART:20171123T100000Z
DTEND:20171123T170000Z
LOCATION:Düsseldorf Marktplatz 2
SUMMARY:DiverseCity Kongress Düsseldorf 2017
DESCRIPTION:Die Wertschätzung von Vielfalt ist eine wichtige Voraussetzung
  für unser Zusammenleben und fördert die Teilhabe aller Menschen. Unter d
 em Motto „Diversity geht uns alle an“ laden wir Sie herzlich zur Divers
 eCity 2017 in Düsseldorf ein. Vorträge\,   Workshops und eine Podiumsdis
 kussion beschäftigen sich mit der Frage\,  wie wir Vielfalt im beruflichen
 [..]\nhttps://diversecity.de/events/251/
URL:https://diversecity.de/events/251/
END:VEVENT
END:VCALENDAR