BEGIN:VCALENDAR
VERSION:2.0
PRODID:-//eventon.com NONSGML v1.0//EN
CALSCALE:GREGORIAN
METHOD:PUBLISH
BEGIN:VEVENT
UID:69e9f35376f08
DTSTAMP:20260423T102419Z
DTSTART:20250703T113000Z
DTEND:20250703T160000Z
LOCATION:LWL-Museum Zeche Zollern\,  Dortmund
SUMMARY:DiverseCity Dortmund Barcamp 2025
DESCRIPTION:DiverseCity Dortmund Barcamp 2025 Generationen im Dialog: Gemei
 nsam Lernen\,  Arbeiten und Wachsen Die Veranstaltung für Entscheider\,  F
 ührungskräfte\,  Diversity-Verantwortliche und interessierte Mitarbeiter 
 aus Unternehmen\,  Kommunen und Verbänden. Donnerstag\,  den 3. Juli 2025\
 ,  13:30 &#8211; 18:00 Uhr / LWL-Museum Zeche Zollern\,  Dortmund Weitere I
 nformationen auf der Event-Page der DiverseCity Dortmund Barcamp 2025.[..]\
 nhttps://diversecity.de/events/diversecity-dortmund-barcamp-2025/
URL:https://diversecity.de/events/diversecity-dortmund-barcamp-2025/
END:VEVENT
END:VCALENDAR