BEGIN:VCALENDAR
VERSION:2.0
PRODID:-//eventon.com NONSGML v1.0//EN
CALSCALE:GREGORIAN
METHOD:PUBLISH
BEGIN:VEVENT
UID:69e7a5fedff23
DTSTAMP:20260421T162950Z
DTSTART:20250912
DTEND:20250913
LOCATION:SRH University Campus Heidelberg
SUMMARY:DiverseCity Rhein-Neckar
DESCRIPTION:DiverseCity &#8211; Rhein-Neckar Die Veranstaltung für Entsche
 ider\,  Führungskräfte\,  Diversity-Verantwortliche und interessierte Mit
 arbeiter aus Unternehmen\,  Kommunen und Verbänden. Freitag\,  den 12. Sep
 tember 2025 / SRH University Campus Heidelberg Weitere Informationen auf de
 r Event-Page der DiverseCity Rhein-Neckar 2025    \nhttps://diversecity.d
 e/events/diverse-city-rhein-neckar/
URL:https://diversecity.de/events/diverse-city-rhein-neckar/
END:VEVENT
END:VCALENDAR