BEGIN:VCALENDAR
VERSION:2.0
PRODID:-//eventon.com NONSGML v1.0//EN
CALSCALE:GREGORIAN
METHOD:PUBLISH
BEGIN:VEVENT
UID:69e778350a777
DTSTAMP:20260421T131429Z
DTSTART:20220811T153000Z
DTEND:20220811T215000Z
LOCATION:
SUMMARY:Diverse City KÃ¶ln 2022
DESCRIPTION:DiverseCity &#8211; Gestreamt aus dem Amt fÃ¼r Integration und 
 Vielfalt am 11. August 2022 von 17:30 bis 19:00 Uhr. Moderiert von Bettina 
 Baum\,  Leiterin des Amtes fÃ¼r Integration und Vielfalt und Dr. Frank JanÃ
 Ÿen\,  Regionalkoordinator Regionalgruppe KÃ¶ln VÃ¶lklinger Kreis e. V. Gem
 einsam mit dem VÃ¶lklinger Kreis laden wir Sie zur[..]\nhttps://diversecity
 .de/events/diverse-city-koeln-2022/
URL:https://diversecity.de/events/diverse-city-koeln-2022/
END:VEVENT
END:VCALENDAR