BEGIN:VCALENDAR
VERSION:2.0
PRODID:-//eventon.com NONSGML v1.0//EN
CALSCALE:GREGORIAN
METHOD:PUBLISH
BEGIN:VEVENT
UID:69e74e9db0bb9
DTSTAMP:20260421T101701Z
DTSTART:20211130T130000Z
DTEND:20211130T153000Z
LOCATION:www.pink-aging.de
SUMMARY:PINK AGING oder ANDERS ALTERN?
DESCRIPTION:PINK AGING ODER ANDERS ALTERN? Wie wollen die LSBTIQ+ Menschen 
 altern? Erstmals in der Geschichte der Bundesrepublik gibt es eine relevant
 e Zahl offen lesbischer\,  schwuler\,  bisexueller\,  trans*\,  inter* und 
 queerer Menschen\,  die ins Senior*innenalter kommen. Unter der Überschrif
 t Pink Aging oder Anders Altern? wollen wir uns mit dem Thema unter[..]\nht
 tps://diversecity.de/events/pink-aging-oder-anders-altern/var/event_access
URL:https://diversecity.de/events/pink-aging-oder-anders-altern/var/event_access
END:VEVENT
END:VCALENDAR