BEGIN:VCALENDAR
VERSION:2.0
PRODID:-//eventon.com NONSGML v1.0//EN
CALSCALE:GREGORIAN
METHOD:PUBLISH
BEGIN:VEVENT
UID:69e762ffdb6da
DTSTAMP:20260421T114359Z
DTSTART:20171214T140000Z
DTEND:20171214T140000Z
LOCATION:
SUMMARY:Titel der Veranstaltung
DESCRIPTION:Titel der Veranstaltung\nhttps://diversecity.de/events/titel-de
 r-veranstaltung/
URL:https://diversecity.de/events/titel-der-veranstaltung/
END:VEVENT
END:VCALENDAR