BEGIN:VCALENDAR
VERSION:2.0
PRODID:-//eventon.com NONSGML v1.0//EN
CALSCALE:GREGORIAN
METHOD:PUBLISH
BEGIN:VEVENT
UID:69e74f4f43eed
DTSTAMP:20260421T101959Z
DTSTART:20180705T123000Z
DTEND:20180705T193000Z
LOCATION:Rathaus Dortmund Friedensplatz 1
SUMMARY:DiverseCity Kongress Dortmund 2018
DESCRIPTION:&nbsp; &nbsp; &nbsp; &nbsp; &nbsp; &nbsp; Unter dem Motto „Al
 le! Zusammen!“ lädt Sie die Stadt Dortmund zusammen mit uns herzlich zum
  7. DiverseCity Kongress ein. Vielfalt wertzuschätzen\,  ist eine wichtige
  Voraussetzung für unser Zusammenleben und fördert die Teilhabe aller Men
 schen. Mit Vorträgen\,  Workshops und einer Podiumsdiskussion beschäftige
 n wir uns mit[..]\nhttps://diversecity.de/events/diversecity-kongress-dortm
 und-2018/
URL:https://diversecity.de/events/diversecity-kongress-dortmund-2018/
END:VEVENT
END:VCALENDAR