BEGIN:VCALENDAR
VERSION:2.0
PRODID:-//eventon.com NONSGML v1.0//EN
CALSCALE:GREGORIAN
METHOD:PUBLISH
BEGIN:VEVENT
UID:69e74dfbf1e66
DTSTAMP:20260421T101419Z
DTSTART:20180525T170000Z
DTEND:20180525T220000Z
LOCATION:Westin Grand Frankfurt Konrad-Adenauer-Str. 7
SUMMARY:DiverseCity Empfang Colorful Frankfurt
DESCRIPTION:Informationen und Anmeldung über https://exzentriker.events/co
 lorful-frankfurt\nhttps://diversecity.de/events/diversecity-empfang-colorfu
 l-frankfurt/
URL:https://diversecity.de/events/diversecity-empfang-colorful-frankfurt/
END:VEVENT
END:VCALENDAR